BEGIN:VCALENDAR
VERSION:2.0
PRODID:-//Patí Català i Vela Llatina de Calafell - ECPv6.15.20//NONSGML v1.0//EN
CALSCALE:GREGORIAN
METHOD:PUBLISH
X-WR-CALNAME:Patí Català i Vela Llatina de Calafell
X-ORIGINAL-URL:https://paticatalacalafell.cat/es
X-WR-CALDESC:Eventos para Patí Català i Vela Llatina de Calafell
REFRESH-INTERVAL;VALUE=DURATION:PT1H
X-Robots-Tag:noindex
X-PUBLISHED-TTL:PT1H
BEGIN:VTIMEZONE
TZID:Europe/Paris
BEGIN:DAYLIGHT
TZOFFSETFROM:+0100
TZOFFSETTO:+0200
TZNAME:CEST
DTSTART:20240331T010000
END:DAYLIGHT
BEGIN:STANDARD
TZOFFSETFROM:+0200
TZOFFSETTO:+0100
TZNAME:CET
DTSTART:20241027T010000
END:STANDARD
BEGIN:DAYLIGHT
TZOFFSETFROM:+0100
TZOFFSETTO:+0200
TZNAME:CEST
DTSTART:20250330T010000
END:DAYLIGHT
BEGIN:STANDARD
TZOFFSETFROM:+0200
TZOFFSETTO:+0100
TZNAME:CET
DTSTART:20251026T010000
END:STANDARD
BEGIN:DAYLIGHT
TZOFFSETFROM:+0100
TZOFFSETTO:+0200
TZNAME:CEST
DTSTART:20260329T010000
END:DAYLIGHT
BEGIN:STANDARD
TZOFFSETFROM:+0200
TZOFFSETTO:+0100
TZNAME:CET
DTSTART:20261025T010000
END:STANDARD
END:VTIMEZONE
BEGIN:VEVENT
DTSTART;VALUE=DATE:20250215
DTEND;VALUE=DATE:20250216
DTSTAMP:20260420T055713
CREATED:20250220T120031Z
LAST-MODIFIED:20250220T135302Z
UID:3613-1739577600-1739663999@paticatalacalafell.cat
SUMMARY:Curs d'iniciació en vela llatina
DESCRIPTION:Nova edició del de curs d'iniciació. Posteriorment començarem cursos de nivell tripulants. \nL'embarcació utilitzada serà la Galatzó i\, puntualment\, alguna altra embarcació. \nClasses teòriques a la Destil·leria.
URL:https://paticatalacalafell.cat/es/esdeveniment/curs-diniciacio-en-vela-llatina-2/
LOCATION:Moll de les llatines\, Port Segur de Calafell\, Passeig Marítim de Sant Joan de Déu\, Calafell\, Tarragona\, 43882\, Spain
CATEGORIES:Curs vela llatina
END:VEVENT
BEGIN:VEVENT
DTSTART;TZID=Europe/Paris:20250215T103000
DTEND;TZID=Europe/Paris:20250215T133000
DTSTAMP:20260420T055713
CREATED:20250210T105338Z
LAST-MODIFIED:20250210T112921Z
UID:3433-1739615400-1739626200@paticatalacalafell.cat
SUMMARY:Navegació social amb vela llatina
DESCRIPTION:Sortim a navegar amb els socis amb les barques de l'entitat. \nCal reserva prèvia pels canals de l'entitat
URL:https://paticatalacalafell.cat/es/esdeveniment/navegacio-social-amb-vela-llatina/
LOCATION:Moll de les llatines\, Port Segur de Calafell\, Passeig Marítim de Sant Joan de Déu\, Calafell\, Tarragona\, 43882\, Spain
END:VEVENT
BEGIN:VEVENT
DTSTART;TZID=Europe/Paris:20250215T170000
DTEND;TZID=Europe/Paris:20250215T180000
DTSTAMP:20260420T055713
CREATED:20250220T145719Z
LAST-MODIFIED:20250220T145719Z
UID:3630-1739638800-1739642400@paticatalacalafell.cat
SUMMARY:Presentació del llibre "A los blancos en África"
DESCRIPTION:El company Alsina ens convida a la presentació del seu llibre i al posterior refrigeri.
URL:https://paticatalacalafell.cat/es/esdeveniment/presentacio-del-llibre-a-los-blancos-en-africa/
LOCATION:Destil·leria\, Carretera del Sanatori\, 3\, Calafell\, Tarragona\, 43882\, Spain
END:VEVENT
END:VCALENDAR