BEGIN:VCALENDAR
VERSION:2.0
PRODID:-//Patí Català i Vela Llatina de Calafell - ECPv6.15.20//NONSGML v1.0//EN
CALSCALE:GREGORIAN
METHOD:PUBLISH
X-ORIGINAL-URL:https://paticatalacalafell.cat/es
X-WR-CALDESC:Eventos para Patí Català i Vela Llatina de Calafell
REFRESH-INTERVAL;VALUE=DURATION:PT1H
X-Robots-Tag:noindex
X-PUBLISHED-TTL:PT1H
BEGIN:VTIMEZONE
TZID:Europe/Paris
BEGIN:DAYLIGHT
TZOFFSETFROM:+0100
TZOFFSETTO:+0200
TZNAME:CEST
DTSTART:20240331T010000
END:DAYLIGHT
BEGIN:STANDARD
TZOFFSETFROM:+0200
TZOFFSETTO:+0100
TZNAME:CET
DTSTART:20241027T010000
END:STANDARD
BEGIN:DAYLIGHT
TZOFFSETFROM:+0100
TZOFFSETTO:+0200
TZNAME:CEST
DTSTART:20250330T010000
END:DAYLIGHT
BEGIN:STANDARD
TZOFFSETFROM:+0200
TZOFFSETTO:+0100
TZNAME:CET
DTSTART:20251026T010000
END:STANDARD
BEGIN:DAYLIGHT
TZOFFSETFROM:+0100
TZOFFSETTO:+0200
TZNAME:CEST
DTSTART:20260329T010000
END:DAYLIGHT
BEGIN:STANDARD
TZOFFSETFROM:+0200
TZOFFSETTO:+0100
TZNAME:CET
DTSTART:20261025T010000
END:STANDARD
END:VTIMEZONE
BEGIN:VEVENT
DTSTART;VALUE=DATE:20250301
DTEND;VALUE=DATE:20250302
DTSTAMP:20260420T061134
CREATED:20250220T120221Z
LAST-MODIFIED:20250220T135235Z
UID:3617-1740787200-1740873599@paticatalacalafell.cat
SUMMARY:Curs d'iniciació en vela llatina
DESCRIPTION:Nova edició del de curs d'iniciació. Posteriorment començarem cursos de nivell tripulants. \nL'embarcació utilitzada serà la Galatzó i\, puntualment\, alguna altra embarcació. \nClasses teòriques a la Destil·leria.
URL:https://paticatalacalafell.cat/es/esdeveniment/curs-diniciacio-en-vela-llatina-4/
LOCATION:Moll de les llatines\, Port Segur de Calafell\, Passeig Marítim de Sant Joan de Déu\, Calafell\, Tarragona\, 43882\, Spain
CATEGORIES:Curs vela llatina
END:VEVENT
BEGIN:VEVENT
DTSTART;TZID=Europe/Paris:20250301T110000
DTEND;TZID=Europe/Paris:20250301T170000
DTSTAMP:20260420T061134
CREATED:20250210T133628Z
LAST-MODIFIED:20250210T133926Z
UID:3471-1740826800-1740848400@paticatalacalafell.cat
SUMMARY:Trobada de Lobas de Mar
DESCRIPTION:Nova trobada de dones navegants i amants de la mar. \nhttps://www.instagram.com/lobasdemar/ \nPlaces limitades! \n \nLa idea és compartir un dinar\, reforçar sinergies i vincles\, trobar noves idees per a potenciar-nos... \nCal reserva prèvia enviant un mail a hola@lobasdemar.com abans del 20 de febrer. \nhttps://cincuentaydosazul.com/
URL:https://paticatalacalafell.cat/es/esdeveniment/trobada-de-lobas-de-mar/
LOCATION:Destil·leria\, Carretera del Sanatori\, 3\, Calafell\, Tarragona\, 43882\, Spain
END:VEVENT
BEGIN:VEVENT
DTSTART;TZID=Europe/Paris:20250303T090000
DTEND;TZID=Europe/Paris:20250303T133000
DTSTAMP:20260420T061134
CREATED:20250220T113240Z
LAST-MODIFIED:20250220T135227Z
UID:3575-1740992400-1741008600@paticatalacalafell.cat
SUMMARY:Curs d'iniciació per a la reparació de barques de fusta
DESCRIPTION:Tots els dilluns\, des del 10/febrer fins al 26/maig\, fem el curs d'iniciació per a la reparació de barques de fusta de la mà d'en Quico Despuig.
URL:https://paticatalacalafell.cat/es/esdeveniment/curs-diniciacio-per-a-la-reparacio-de-barques-de-fusta-4/
LOCATION:Destil·leria\, Carretera del Sanatori\, 3\, Calafell\, Tarragona\, 43882\, Spain
CATEGORIES:Curs vela llatina
END:VEVENT
BEGIN:VEVENT
DTSTART;TZID=Europe/Paris:20250307T183000
DTEND;TZID=Europe/Paris:20250307T193000
DTSTAMP:20260420T061134
CREATED:20250220T120829Z
LAST-MODIFIED:20250220T120829Z
UID:3621-1741372200-1741375800@paticatalacalafell.cat
SUMMARY:Junta de la vela llatina
DESCRIPTION:
URL:https://paticatalacalafell.cat/es/esdeveniment/junta-de-la-vela-llatina-2/
LOCATION:Destil·leria\, Carretera del Sanatori\, 3\, Calafell\, Tarragona\, 43882\, Spain
END:VEVENT
BEGIN:VEVENT
DTSTART;TZID=Europe/Paris:20250310T090000
DTEND;TZID=Europe/Paris:20250310T133000
DTSTAMP:20260420T061134
CREATED:20250220T113353Z
LAST-MODIFIED:20250220T135222Z
UID:3577-1741597200-1741613400@paticatalacalafell.cat
SUMMARY:Curs d'iniciació per a la reparació de barques de fusta
DESCRIPTION:Tots els dilluns\, des del 10/febrer fins al 26/maig\, fem el curs d'iniciació per a la reparació de barques de fusta de la mà d'en Quico Despuig.
URL:https://paticatalacalafell.cat/es/esdeveniment/curs-diniciacio-per-a-la-reparacio-de-barques-de-fusta-5/
LOCATION:Destil·leria\, Carretera del Sanatori\, 3\, Calafell\, Tarragona\, 43882\, Spain
CATEGORIES:Curs vela llatina
END:VEVENT
BEGIN:VEVENT
DTSTART;TZID=Europe/Paris:20250317T090000
DTEND;TZID=Europe/Paris:20250317T133000
DTSTAMP:20260420T061134
CREATED:20250220T113527Z
LAST-MODIFIED:20250220T135218Z
UID:3582-1742202000-1742218200@paticatalacalafell.cat
SUMMARY:Curs d'iniciació per a la reparació de barques de fusta
DESCRIPTION:Tots els dilluns\, des del 10/febrer fins al 26/maig\, fem el curs d'iniciació per a la reparació de barques de fusta de la mà d'en Quico Despuig
URL:https://paticatalacalafell.cat/es/esdeveniment/curs-diniciacio-per-a-la-reparacio-de-barques-de-fusta-6/
LOCATION:Destil·leria\, Carretera del Sanatori\, 3\, Calafell\, Tarragona\, 43882\, Spain
CATEGORIES:Curs vela llatina
END:VEVENT
BEGIN:VEVENT
DTSTART;TZID=Europe/Paris:20250321T190000
DTEND;TZID=Europe/Paris:20250321T200000
DTSTAMP:20260420T061134
CREATED:20250306T145727Z
LAST-MODIFIED:20250306T145805Z
UID:3853-1742583600-1742587200@paticatalacalafell.cat
SUMMARY:Assemblea ordinària de socis
DESCRIPTION:Ordre del dia: \n\n\n\n\nSalutació del president\n\n\n\nLectura de l'acta anterior\n\n\n\nTancament comptes 2024\n\n\n\nPressupost 2025\n\n\n\nProjectes 2025\n\n\n\nTorn obert de precs i preguntes.
URL:https://paticatalacalafell.cat/es/esdeveniment/assemblea-ordinaria-de-socis/
LOCATION:Destil·leria\, Carretera del Sanatori\, 3\, Calafell\, Tarragona\, 43882\, Spain
END:VEVENT
BEGIN:VEVENT
DTSTART;TZID=Europe/Paris:20250324T090000
DTEND;TZID=Europe/Paris:20250324T133000
DTSTAMP:20260420T061134
CREATED:20250220T113620Z
LAST-MODIFIED:20250220T135213Z
UID:3584-1742806800-1742823000@paticatalacalafell.cat
SUMMARY:Curs d'iniciació per a la reparació de barques de fusta
DESCRIPTION:Tots els dilluns\, des del 10/febrer fins al 26/maig\, fem el curs d'iniciació per a la reparació de barques de fusta de la mà d'en Quico Despuig.
URL:https://paticatalacalafell.cat/es/esdeveniment/curs-diniciacio-per-a-la-reparacio-de-barques-de-fusta-7/
LOCATION:Destil·leria\, Carretera del Sanatori\, 3\, Calafell\, Tarragona\, 43882\, Spain
CATEGORIES:Curs vela llatina
END:VEVENT
BEGIN:VEVENT
DTSTART;TZID=Europe/Paris:20250331T090000
DTEND;TZID=Europe/Paris:20250331T133000
DTSTAMP:20260420T061134
CREATED:20250220T113721Z
LAST-MODIFIED:20250220T113721Z
UID:3586-1743411600-1743427800@paticatalacalafell.cat
SUMMARY:Curs d'iniciació per a la reparació de barques de fusta
DESCRIPTION:Tots els dilluns\, des del 10/febrer fins al 26/maig\, fem el curs d'iniciació per a la reparació de barques de fusta de la mà d'en Quico Despuig.
URL:https://paticatalacalafell.cat/es/esdeveniment/curs-diniciacio-per-a-la-reparacio-de-barques-de-fusta-8/
LOCATION:Destil·leria\, Carretera del Sanatori\, 3\, Calafell\, Tarragona\, 43882\, Spain
END:VEVENT
END:VCALENDAR