BEGIN:VCALENDAR
VERSION:2.0
PRODID:-//Patí Català i Vela Llatina de Calafell - ECPv6.15.20//NONSGML v1.0//EN
CALSCALE:GREGORIAN
METHOD:PUBLISH
X-ORIGINAL-URL:https://paticatalacalafell.cat
X-WR-CALDESC:Esdeveniments per Patí Català i Vela Llatina de Calafell
REFRESH-INTERVAL;VALUE=DURATION:PT1H
X-Robots-Tag:noindex
X-PUBLISHED-TTL:PT1H
BEGIN:VTIMEZONE
TZID:Europe/Paris
BEGIN:DAYLIGHT
TZOFFSETFROM:+0100
TZOFFSETTO:+0200
TZNAME:CEST
DTSTART:20240331T010000
END:DAYLIGHT
BEGIN:STANDARD
TZOFFSETFROM:+0200
TZOFFSETTO:+0100
TZNAME:CET
DTSTART:20241027T010000
END:STANDARD
BEGIN:DAYLIGHT
TZOFFSETFROM:+0100
TZOFFSETTO:+0200
TZNAME:CEST
DTSTART:20250330T010000
END:DAYLIGHT
BEGIN:STANDARD
TZOFFSETFROM:+0200
TZOFFSETTO:+0100
TZNAME:CET
DTSTART:20251026T010000
END:STANDARD
BEGIN:DAYLIGHT
TZOFFSETFROM:+0100
TZOFFSETTO:+0200
TZNAME:CEST
DTSTART:20260329T010000
END:DAYLIGHT
BEGIN:STANDARD
TZOFFSETFROM:+0200
TZOFFSETTO:+0100
TZNAME:CET
DTSTART:20261025T010000
END:STANDARD
END:VTIMEZONE
BEGIN:VEVENT
DTSTART;VALUE=DATE:20250222
DTEND;VALUE=DATE:20250223
DTSTAMP:20260420T041854
CREATED:20250220T120146Z
LAST-MODIFIED:20250220T135247Z
UID:3615-1740182400-1740268799@paticatalacalafell.cat
SUMMARY:Curs d'iniciació en vela llatina
DESCRIPTION:Nova edició del de curs d'iniciació. Posteriorment començarem cursos de nivell tripulants. \nL'embarcació utilitzada serà la Galatzó i\, puntualment\, alguna altra embarcació. \nClasses teòriques a la Destil·leria.
URL:https://paticatalacalafell.cat/esdeveniment/curs-diniciacio-en-vela-llatina-3/
LOCATION:Moll de les llatines\, Port Segur de Calafell\, Passeig Marítim de Sant Joan de Déu\, Calafell\, Tarragona\, 43882\, Spain
CATEGORIES:Curs vela llatina
END:VEVENT
BEGIN:VEVENT
DTSTART;TZID=Europe/Paris:20250222T133000
DTEND;TZID=Europe/Paris:20250222T160000
DTSTAMP:20260420T041854
CREATED:20250210T104405Z
LAST-MODIFIED:20250210T104405Z
UID:3431-1740231000-1740240000@paticatalacalafell.cat
SUMMARY:15 Calçotada per a socis
DESCRIPTION:Calçotada per a socis i familiars de l'entitat\, a la Destil·leria. \nPreu: 25 € \nEs paga en fer la reserva\, mitjançant Bizum al 638 14 28 28 o presencialment a la Destil·leria.\nData límit dijous 20 de febrer\nPlaces limitades \nMenú:\nCalçots de l'horta amb salsa gurmet\nCarns a la brasa (xai\, botifarra\, cansalada\, pa torrat)\, amb el mestre de la brasa Matias\nTaronges\, fruits secs i té de la Fàtima\nVi\, cervesa\, cava i una mica d'aigua
URL:https://paticatalacalafell.cat/esdeveniment/15-calcotada-per-a-socis/
LOCATION:Destil·leria\, Carretera del Sanatori\, 3\, Calafell\, Tarragona\, 43882\, Spain
END:VEVENT
END:VCALENDAR